BEGIN:VCALENDAR
VERSION:2.0
PRODID:-//Mission Hospice Society - ECPv6.15.20//NONSGML v1.0//EN
CALSCALE:GREGORIAN
METHOD:PUBLISH
X-ORIGINAL-URL:https://missionhospice.bc.ca
X-WR-CALDESC:Events for Mission Hospice Society
REFRESH-INTERVAL;VALUE=DURATION:PT1H
X-Robots-Tag:noindex
X-PUBLISHED-TTL:PT1H
BEGIN:VTIMEZONE
TZID:America/Vancouver
BEGIN:DAYLIGHT
TZOFFSETFROM:-0800
TZOFFSETTO:-0700
TZNAME:PDT
DTSTART:20240310T100000
END:DAYLIGHT
BEGIN:STANDARD
TZOFFSETFROM:-0700
TZOFFSETTO:-0800
TZNAME:PST
DTSTART:20241103T090000
END:STANDARD
BEGIN:DAYLIGHT
TZOFFSETFROM:-0800
TZOFFSETTO:-0700
TZNAME:PDT
DTSTART:20250309T100000
END:DAYLIGHT
BEGIN:STANDARD
TZOFFSETFROM:-0700
TZOFFSETTO:-0800
TZNAME:PST
DTSTART:20251102T090000
END:STANDARD
BEGIN:DAYLIGHT
TZOFFSETFROM:-0800
TZOFFSETTO:-0700
TZNAME:PDT
DTSTART:20260308T100000
END:DAYLIGHT
BEGIN:STANDARD
TZOFFSETFROM:-0700
TZOFFSETTO:-0800
TZNAME:PST
DTSTART:20261101T090000
END:STANDARD
BEGIN:DAYLIGHT
TZOFFSETFROM:-0800
TZOFFSETTO:-0700
TZNAME:PDT
DTSTART:20270314T100000
END:DAYLIGHT
BEGIN:STANDARD
TZOFFSETFROM:-0700
TZOFFSETTO:-0800
TZNAME:PST
DTSTART:20271107T090000
END:STANDARD
END:VTIMEZONE
BEGIN:VEVENT
DTSTART;VALUE=DATE:20260329
DTEND;VALUE=DATE:20260330
DTSTAMP:20260422T112158
CREATED:20260219T215842Z
LAST-MODIFIED:20260304T200010Z
UID:10000008-1774742400-1774828799@missionhospice.bc.ca
SUMMARY:Heritage to Hatzic
DESCRIPTION:Heritage to Hatzic 5K & 10K – March 29\, 2026\nThe Heritage to Hatzic 5K & 10K Road Race returns to Mission on Sunday\, March 29\, 2026. This popular community event welcomes runners of all abilities and offers a great early-season race or tune-up for the Vancouver Sun Run. \n\nStart Time: 9:00 am\nLocation: Heritage Park Middle School Track\nAddress: 33700 Prentis Avenue\, Mission\nDistances: 5K & 10K\n\nThis annual race takes place three weeks before the Vancouver Sun Run and is an ideal warm-up event. All proceeds benefit the Mission Hospice Society\, supporting compassionate care in our community. \nRegister by March 10\, 2026 to get an event shirt for $10. \n\nNew this year is our kids’ 1 K run taking place at 9.05. This race is for those 12 and under and will start and finish at the finish line at the track at Heritage Park Middle School. \n5 K route: http://www.gmap-pedometer.com/?r=7636722 \n\n10 K route: https://www.gmap-pedometer.com/?r=7636576\nRegister here; 2026 — Heritage to Hatzic 5 & 10 K Road Race — Race Roster — Registration\, Marketing\, Fundraising
URL:https://missionhospice.bc.ca/event/heritage-to-hatzic/
LOCATION:Heritage Park Middle School Track\, 33700 Prentis Ave\, Mission\, BC\, V2V 7B1\, Canada
ATTACH;FMTTYPE=application/pdf:https://missionhospice.bc.ca/wp-content/uploads/2026/02/Heritage-to-Hatzic-QP-JAN-2026-1.pdf
END:VEVENT
BEGIN:VEVENT
DTSTART;TZID=America/Vancouver:20260324T100000
DTEND;TZID=America/Vancouver:20260324T123000
DTSTAMP:20260422T112158
CREATED:20260224T235024Z
LAST-MODIFIED:20260306T230720Z
UID:10000017-1774346400-1774355400@missionhospice.bc.ca
SUMMARY:Cooking for One
DESCRIPTION:Cooking for one can feel like a chore – but it doesn’t have to be. \nMission Hospice Society is offering a free\, four-week cooking class designed for anyone navigating meals solo. We’ll focus on simple\, affordable\, comforting food and good conversation along the way.\n\n\nThink: one rotisserie chicken turned into four easy meals\, pantry staples that become hearty dinners\, and low-effort options for the nights you just don’t feel like cooking.\n\n\n March 3\, 10\, 17\, 24\n 10:00–12:30\n Hospice House\n\n 
URL:https://missionhospice.bc.ca/event/cooking-for-one/2026-03-24/
LOCATION:Mission Hospice Society\, 32180 Hillcrest Ave\, Mission\, BC\, Canada
ATTACH;FMTTYPE=image/png:https://missionhospice.bc.ca/wp-content/uploads/2026/02/Cooking-for-One-WAITLIST.png
END:VEVENT
BEGIN:VEVENT
DTSTART;TZID=America/Vancouver:20260317T100000
DTEND;TZID=America/Vancouver:20260317T123000
DTSTAMP:20260422T112158
CREATED:20260224T235024Z
LAST-MODIFIED:20260306T230720Z
UID:10000016-1773741600-1773750600@missionhospice.bc.ca
SUMMARY:Cooking for One
DESCRIPTION:Cooking for one can feel like a chore – but it doesn’t have to be. \nMission Hospice Society is offering a free\, four-week cooking class designed for anyone navigating meals solo. We’ll focus on simple\, affordable\, comforting food and good conversation along the way.\n\n\nThink: one rotisserie chicken turned into four easy meals\, pantry staples that become hearty dinners\, and low-effort options for the nights you just don’t feel like cooking.\n\n\n March 3\, 10\, 17\, 24\n 10:00–12:30\n Hospice House\n\n 
URL:https://missionhospice.bc.ca/event/cooking-for-one/2026-03-17/
LOCATION:Mission Hospice Society\, 32180 Hillcrest Ave\, Mission\, BC\, Canada
ATTACH;FMTTYPE=image/png:https://missionhospice.bc.ca/wp-content/uploads/2026/02/Cooking-for-One-WAITLIST.png
END:VEVENT
BEGIN:VEVENT
DTSTART;TZID=America/Vancouver:20260310T100000
DTEND;TZID=America/Vancouver:20260310T123000
DTSTAMP:20260422T112158
CREATED:20260224T235024Z
LAST-MODIFIED:20260306T230720Z
UID:10000015-1773136800-1773145800@missionhospice.bc.ca
SUMMARY:Cooking for One
DESCRIPTION:Cooking for one can feel like a chore – but it doesn’t have to be. \nMission Hospice Society is offering a free\, four-week cooking class designed for anyone navigating meals solo. We’ll focus on simple\, affordable\, comforting food and good conversation along the way.\n\n\nThink: one rotisserie chicken turned into four easy meals\, pantry staples that become hearty dinners\, and low-effort options for the nights you just don’t feel like cooking.\n\n\n March 3\, 10\, 17\, 24\n 10:00–12:30\n Hospice House\n\n 
URL:https://missionhospice.bc.ca/event/cooking-for-one/2026-03-10/
LOCATION:Mission Hospice Society\, 32180 Hillcrest Ave\, Mission\, BC\, Canada
ATTACH;FMTTYPE=image/png:https://missionhospice.bc.ca/wp-content/uploads/2026/02/Cooking-for-One-WAITLIST.png
END:VEVENT
BEGIN:VEVENT
DTSTART;TZID=America/Vancouver:20260303T100000
DTEND;TZID=America/Vancouver:20260303T123000
DTSTAMP:20260422T112158
CREATED:20260224T235024Z
LAST-MODIFIED:20260306T230720Z
UID:10000010-1772532000-1772541000@missionhospice.bc.ca
SUMMARY:Cooking for One
DESCRIPTION:Cooking for one can feel like a chore – but it doesn’t have to be. \nMission Hospice Society is offering a free\, four-week cooking class designed for anyone navigating meals solo. We’ll focus on simple\, affordable\, comforting food and good conversation along the way.\n\n\nThink: one rotisserie chicken turned into four easy meals\, pantry staples that become hearty dinners\, and low-effort options for the nights you just don’t feel like cooking.\n\n\n March 3\, 10\, 17\, 24\n 10:00–12:30\n Hospice House\n\n 
URL:https://missionhospice.bc.ca/event/cooking-for-one/2026-03-03/
LOCATION:Mission Hospice Society\, 32180 Hillcrest Ave\, Mission\, BC\, Canada
ATTACH;FMTTYPE=image/png:https://missionhospice.bc.ca/wp-content/uploads/2026/02/Cooking-for-One-WAITLIST.png
END:VEVENT
BEGIN:VEVENT
DTSTART;TZID=America/Vancouver:20251202T000000
DTEND;TZID=America/Vancouver:20251216T000000
DTSTAMP:20260422T112158
CREATED:20260219T215836Z
LAST-MODIFIED:20260219T215836Z
UID:10000004-1764633600-1765843200@missionhospice.bc.ca
SUMMARY:Tree of Remembrance
DESCRIPTION:Tree of Remembrance will take place from December 2 to December 15th\, 2025. More details to come.\n 
URL:https://missionhospice.bc.ca/event/tree-of-remembrance/
LOCATION:BC
END:VEVENT
BEGIN:VEVENT
DTSTART;TZID=America/Vancouver:20250928T000000
DTEND;TZID=America/Vancouver:20250928T000000
DTSTAMP:20260422T112158
CREATED:20260219T215836Z
LAST-MODIFIED:20260219T215836Z
UID:10000003-1759017600-1759017600@missionhospice.bc.ca
SUMMARY:Walk for Hospice
DESCRIPTION:Mission Hospice Society Annual Walk for Hospice will be taking place September 28 2025. We would like to invite you to join us at Heritage park and walk in memory of your lost love ones. Gather your family and friends and join us for this amazing day in the park. You can register your team below and start collecting pledges online or click here to download the pledge forms.\n 
URL:https://missionhospice.bc.ca/event/walk-for-hospice/
LOCATION:BC
END:VEVENT
BEGIN:VEVENT
DTSTART;TZID=America/Vancouver:20250719T000000
DTEND;TZID=America/Vancouver:20250719T000000
DTSTAMP:20260422T112158
CREATED:20260219T215835Z
LAST-MODIFIED:20260219T215835Z
UID:10000002-1752883200-1752883200@missionhospice.bc.ca
SUMMARY:Ride for Hospice
DESCRIPTION:Join Mission Hospice for a ride/drive through the beautiful eastern Fraser Valley in support of compassionate\, end of life care and bereavement programs in our community.\nEveryone is welcome to participate – 2 wheels\, 3 wheels or 4 wheels and more. Registration is $40.00 per Vehicle/Driver and $25.00 per Passenger. \n9 to 10 a.m. – Registration begins at the Canadian Tire Parking Lot in the Junction \n10:30 a.m. – Ride departs with Poker Run stops at the Sasquatch Inn\, Agassiz and Dewdney Pub. \n12:30 p.m. – Lunch and Prizes at the Dewdney Pub between 12:30 and 2:00 p.m. \nCollect pledges and Ride in memory of your lost loved one\, or simply join us for a beautiful day and ride/drive in the Fraser Valley. Prizes for Most Pledges Collected\, Best & Worst Poker Hands and Door Prizes!  \nDownload Pledge Form Here – 2025 Ride Pledge Form
URL:https://missionhospice.bc.ca/event/ride-for-hospice/
LOCATION:BC
ATTACH;FMTTYPE=image/png:https://missionhospice.bc.ca/wp-content/uploads/2026/02/Ride-for-Hospice-Save-the-Date-CX8wEF.png
END:VEVENT
BEGIN:VEVENT
DTSTART;TZID=America/Vancouver:20250426T000000
DTEND;TZID=America/Vancouver:20250426T000000
DTSTAMP:20260422T112158
CREATED:20260219T215840Z
LAST-MODIFIED:20260219T215845Z
UID:10000006-1745625600-1745625600@missionhospice.bc.ca
SUMMARY:40th Anniversary Celebration
DESCRIPTION:Join us on October 1st 2025 to celebrate our 40th Anniversary.\nPlease RSVP by scanning the QR code below. \n  \n 
URL:https://missionhospice.bc.ca/event/40th-anniversary-celebration/
LOCATION:BC
END:VEVENT
BEGIN:VEVENT
DTSTART;TZID=America/Vancouver:20250406T000000
DTEND;TZID=America/Vancouver:20250406T000000
DTSTAMP:20260422T112158
CREATED:20260219T215839Z
LAST-MODIFIED:20260219T215844Z
UID:10000005-1743897600-1743897600@missionhospice.bc.ca
SUMMARY:Heritage to Hatzic Road Race
DESCRIPTION:Hospice – Heritage to Hatzic – APR 2025To register please click HERE
URL:https://missionhospice.bc.ca/event/heritage-to-hatzic-road-race/
LOCATION:BC
ATTACH;FMTTYPE=image/jpeg:https://missionhospice.bc.ca/wp-content/uploads/2026/02/Hertiage-to-Hatzic-Website-Poster-AYNksL.jpg
END:VEVENT
BEGIN:VEVENT
DTSTART;TZID=America/Vancouver:20250318T000000
DTEND;TZID=America/Vancouver:20250318T000000
DTSTAMP:20260422T112158
CREATED:20260219T215834Z
LAST-MODIFIED:20260219T215834Z
UID:10000001-1742256000-1742256000@missionhospice.bc.ca
SUMMARY:Annual General Meeting
DESCRIPTION:Mission Hospice Society AGM \nPlease click on links below to download a copy of our AGM documents \nANNUAL REPORT 2024 \nAGM Minutes 2024 \nAgenda – New \nBoard of Directors – Current 2025 \n2024 Financials  will be downloaded shortly \nTo RSVP for the AGM please email Siobhan at exec.dir@missionhospice.bc.ca to register or call 604-826-2235 \nIf you are interested in joining the board please contact Siobhan  for more details \n  \n 
URL:https://missionhospice.bc.ca/event/annual-general-meeting/
LOCATION:BC
ATTACH;FMTTYPE=image/jpeg:https://missionhospice.bc.ca/wp-content/uploads/2026/02/shutterstock_1771639481smaller-VSrDP0.jpg
END:VEVENT
END:VCALENDAR