BEGIN:VCALENDAR
VERSION:2.0
PRODID:-//Mission Hospice Society - ECPv6.15.20//NONSGML v1.0//EN
CALSCALE:GREGORIAN
METHOD:PUBLISH
X-WR-CALNAME:Mission Hospice Society
X-ORIGINAL-URL:https://missionhospice.bc.ca
X-WR-CALDESC:Events for Mission Hospice Society
REFRESH-INTERVAL;VALUE=DURATION:PT1H
X-Robots-Tag:noindex
X-PUBLISHED-TTL:PT1H
BEGIN:VTIMEZONE
TZID:America/Vancouver
BEGIN:DAYLIGHT
TZOFFSETFROM:-0800
TZOFFSETTO:-0700
TZNAME:PDT
DTSTART:20250309T100000
END:DAYLIGHT
BEGIN:STANDARD
TZOFFSETFROM:-0700
TZOFFSETTO:-0800
TZNAME:PST
DTSTART:20251102T090000
END:STANDARD
BEGIN:DAYLIGHT
TZOFFSETFROM:-0800
TZOFFSETTO:-0700
TZNAME:PDT
DTSTART:20260308T100000
END:DAYLIGHT
BEGIN:STANDARD
TZOFFSETFROM:-0700
TZOFFSETTO:-0800
TZNAME:PST
DTSTART:20261101T090000
END:STANDARD
BEGIN:DAYLIGHT
TZOFFSETFROM:-0800
TZOFFSETTO:-0700
TZNAME:PDT
DTSTART:20270314T100000
END:DAYLIGHT
BEGIN:STANDARD
TZOFFSETFROM:-0700
TZOFFSETTO:-0800
TZNAME:PST
DTSTART:20271107T090000
END:STANDARD
END:VTIMEZONE
BEGIN:VEVENT
DTSTART;VALUE=DATE:20260329
DTEND;VALUE=DATE:20260330
DTSTAMP:20260422T112532
CREATED:20260219T215842Z
LAST-MODIFIED:20260304T200010Z
UID:10000008-1774742400-1774828799@missionhospice.bc.ca
SUMMARY:Heritage to Hatzic
DESCRIPTION:Heritage to Hatzic 5K & 10K – March 29\, 2026\nThe Heritage to Hatzic 5K & 10K Road Race returns to Mission on Sunday\, March 29\, 2026. This popular community event welcomes runners of all abilities and offers a great early-season race or tune-up for the Vancouver Sun Run. \n\nStart Time: 9:00 am\nLocation: Heritage Park Middle School Track\nAddress: 33700 Prentis Avenue\, Mission\nDistances: 5K & 10K\n\nThis annual race takes place three weeks before the Vancouver Sun Run and is an ideal warm-up event. All proceeds benefit the Mission Hospice Society\, supporting compassionate care in our community. \nRegister by March 10\, 2026 to get an event shirt for $10. \n\nNew this year is our kids’ 1 K run taking place at 9.05. This race is for those 12 and under and will start and finish at the finish line at the track at Heritage Park Middle School. \n5 K route: http://www.gmap-pedometer.com/?r=7636722 \n\n10 K route: https://www.gmap-pedometer.com/?r=7636576\nRegister here; 2026 — Heritage to Hatzic 5 & 10 K Road Race — Race Roster — Registration\, Marketing\, Fundraising
URL:https://missionhospice.bc.ca/event/heritage-to-hatzic/
LOCATION:Heritage Park Middle School Track\, 33700 Prentis Ave\, Mission\, BC\, V2V 7B1\, Canada
ATTACH;FMTTYPE=application/pdf:https://missionhospice.bc.ca/wp-content/uploads/2026/02/Heritage-to-Hatzic-QP-JAN-2026-1.pdf
END:VEVENT
END:VCALENDAR